BEGIN:VCALENDAR
VERSION:2.0
PRODID:-//wp-events-plugin.com//7.2.2.1//EN
BEGIN:VEVENT
UID:575@minieradoro.ch
DTSTART:20250906T100000Z
DTEND:20250906T113000Z
DTSTAMP:20250219T152729Z
URL:https://minieradoro.ch/de/events/1000-2025-09-06/
SUMMARY:10:00
DESCRIPTION:
END:VEVENT
END:VCALENDAR