BEGIN:VCALENDAR
VERSION:2.0
PRODID:-//wp-events-plugin.com//7.2.2.1//EN
BEGIN:VEVENT
UID:748@minieradoro.ch
DTSTART:20250921T140000Z
DTEND:20250921T153000Z
DTSTAMP:20250219T153819Z
URL:https://minieradoro.ch/de/events/1400-2-2025-09-21/
SUMMARY:14:00
DESCRIPTION:
END:VEVENT
END:VCALENDAR