BEGIN:VCALENDAR
VERSION:2.0
PRODID:-//wp-events-plugin.com//7.2.2.1//EN
BEGIN:VEVENT
UID:731@minieradoro.ch
DTSTART:20250629T140000Z
DTEND:20250629T153000Z
DTSTAMP:20250219T152919Z
URL:https://minieradoro.ch/en/events/1400-2025-06-29/
SUMMARY:14:00
DESCRIPTION:
END:VEVENT
END:VCALENDAR